BEGIN:VCALENDAR
VERSION:2.0
PRODID:-//Montville Township - ECPv6.15.20//NONSGML v1.0//EN
CALSCALE:GREGORIAN
METHOD:PUBLISH
X-ORIGINAL-URL:https://montvilletwp.net
X-WR-CALDESC:Events for Montville Township
REFRESH-INTERVAL;VALUE=DURATION:PT1H
X-Robots-Tag:noindex
X-PUBLISHED-TTL:PT1H
BEGIN:VTIMEZONE
TZID:UTC
BEGIN:STANDARD
TZOFFSETFROM:+0000
TZOFFSETTO:+0000
TZNAME:UTC
DTSTART:20250101T000000
END:STANDARD
END:VTIMEZONE
BEGIN:VEVENT
DTSTART;TZID=UTC:20260302T190000
DTEND;TZID=UTC:20260302T210000
DTSTAMP:20260422T211111
CREATED:20251118T170321Z
LAST-MODIFIED:20260302T182445Z
UID:9655-1772478000-1772485200@montvilletwp.net
SUMMARY:Board of Zoning Appeals
DESCRIPTION:Variance Request – Hillsong Development\, Anthony Valore\, to encroach into the required setbacks for capped oil wells – Applicant has asked to table the hearing to March 16\, 2026 at 7:00 pm for a full member board.
URL:https://montvilletwp.net/event/board-of-zoning-apeals-2-3-2/
CATEGORIES:Board of Zoning Appeals
END:VEVENT
BEGIN:VEVENT
DTSTART;TZID=UTC:20260310T180000
DTEND;TZID=UTC:20260310T190000
DTSTAMP:20260422T211111
CREATED:20260217T193551Z
LAST-MODIFIED:20260217T193552Z
UID:10175-1773165600-1773169200@montvilletwp.net
SUMMARY:Trustees - Special
DESCRIPTION:Board of Zoning Appeals member interviews.
URL:https://montvilletwp.net/event/trustees-no-meeting-2-4-9-2/
CATEGORIES:Trustees
END:VEVENT
BEGIN:VEVENT
DTSTART;TZID=UTC:20260310T190000
DTEND;TZID=UTC:20260310T210000
DTSTAMP:20260422T211111
CREATED:20251118T183645Z
LAST-MODIFIED:20251118T183648Z
UID:9776-1773169200-1773176400@montvilletwp.net
SUMMARY:Trustees
DESCRIPTION:
URL:https://montvilletwp.net/event/trustees-no-meeting-2-4-9/
CATEGORIES:Trustees
END:VEVENT
BEGIN:VEVENT
DTSTART;TZID=UTC:20260311T190000
DTEND;TZID=UTC:20260311T210000
DTSTAMP:20260422T211111
CREATED:20251118T181730Z
LAST-MODIFIED:20260304T194220Z
UID:9735-1773255600-1773262800@montvilletwp.net
SUMMARY:Zoning Commission
DESCRIPTION:Zoning Resolution text discussion for amendment.
URL:https://montvilletwp.net/event/zoning-commission-25-2-2-2-18/
CATEGORIES:Zoning Commission
END:VEVENT
BEGIN:VEVENT
DTSTART;TZID=UTC:20260316T190000
DTEND;TZID=UTC:20260316T210000
DTSTAMP:20260422T211111
CREATED:20251118T170400Z
LAST-MODIFIED:20260304T194649Z
UID:9657-1773687600-1773694800@montvilletwp.net
SUMMARY:Board of Zoning Appeals
DESCRIPTION:Variance Request – Hillsong Development\, Anthony Valore\, to encroach into the required setbacks for capped oil wells – Tabled from March 2\, 2026 for a full member board.
URL:https://montvilletwp.net/event/board-of-zoning-apeals-2-3-2-2/
CATEGORIES:Board of Zoning Appeals
END:VEVENT
BEGIN:VEVENT
DTSTART;TZID=UTC:20260324T130000
DTEND;TZID=UTC:20260324T150000
DTSTAMP:20260422T211111
CREATED:20251118T184636Z
LAST-MODIFIED:20251118T184638Z
UID:9796-1774357200-1774364400@montvilletwp.net
SUMMARY:Trustees
DESCRIPTION:
URL:https://montvilletwp.net/event/trustees-no-meeting-2-4-19/
CATEGORIES:Trustees
END:VEVENT
BEGIN:VEVENT
DTSTART;TZID=UTC:20260325T190000
DTEND;TZID=UTC:20260325T210000
DTSTAMP:20260422T211111
CREATED:20251118T181658Z
LAST-MODIFIED:20260325T133401Z
UID:9733-1774465200-1774472400@montvilletwp.net
SUMMARY:Zoning Commission - Canceled
DESCRIPTION:The has been canceled due to no agenda items.
URL:https://montvilletwp.net/event/zoning-commission-25-2-2-2-17/
CATEGORIES:Zoning Commission
END:VEVENT
END:VCALENDAR